Workbook

Sheet Цены
B1: ПАРКИНГ
B3: 1 эт. | H3: 18 | I3: ММ | J3: 0 | P3: 17 | Q3: ММ | R3: 0 | X3: 16 | Y3: ММ | Z3: 0 | AF3: 15 | AG3: ММ | AH3: 0 | AN3: 14 | AO3: ММ | AP3: 0 | AV3: 13 | AW3: ММ | AX3: 0 | BC3: 12 | BD3: ММ | BE3: 600000 | BG3: 11 | BH3: ММ | BI3: 600000 | BK3: 10 | BL3: ММ | BM3: 600000 | BO3: 9 | BP3: ММ | BQ3: 600000 | BS3: 8 | BT3: ММ | BU3: 600000 | BW3: 7 | BX3: ММ | BY3: 600000 | CA3: 6 | CB3: ММ | CC3: 600000 | CE3: 5 | CF3: ММ | CG3: 600000 | CI3: 4 | CJ3: ММ | CK3: 600000 | CM3: 3 | CN3: ММ | CO3: 600000 | CQ3: 2 | CR3: ММ | CS3: 600000 | CU3: 1 | CV3: ММ | CW3: 600000 | DF3: Технические помещения
I4: 21 | Q4: 21 | Y4: 21 | AG4: 21 | AO4: 21 | AW4: 21 | BD4: 13.75 | BE4: 43636.364 | BH4: 13.75 | BI4: 43636.364 | BL4: 13.75 | BM4: 43636.364 | BP4: 13.75 | BQ4: 43636.364 | BT4: 13.75 | BU4: 43636.364 | BX4: 13.75 | BY4: 43636.364 | CB4: 13.75 | CC4: 43636.364 | CF4: 13.75 | CG4: 43636.364 | CJ4: 13.75 | CK4: 43636.364 | CN4: 13.75 | CO4: 43636.364 | CR4: 13.75 | CS4: 43636.364 | CV4: 13.75 | CW4: 43636.364
B5: 2 эт. | G5: 65 | H5: ММ | I5: 350000 | K5: 64 | L5: ММ | M5: 350000 | O5: 63 | P5: ММ | Q5: 350000 | S5: 62 | T5: ММ | U5: 350000 | W5: 61 | X5: ММ | Y5: 350000 | AA5: 60 | AB5: ММ | AC5: 350000 | AE5: 59 | AF5: ММ | AG5: 350000 | AI5: 58 | AJ5: ММ | AK5: 350000 | AM5: 57 | AN5: ММ | AO5: 350000 | AQ5: 56 | AR5: ММ | AS5: 350000 | AU5: 55 | AV5: ММ | AW5: 350000 | AY5: 54 | AZ5: ММ | BA5: 350000 | BC5: 53 | BD5: ММ | BE5: 350000 | BG5: 52 | BH5: ММ | BI5: 350000 | BK5: 51 | BL5: ММ | BM5: 350000 | BO5: 50 | BP5: ММ | BQ5: 350000 | BS5: 49 | BT5: ММ | BU5: 350000 | BW5: 48 | BX5: ММ | BY5: 350000 | CA5: 47 | CB5: ММ | CC5: 350000 | CE5: 46 | CF5: ММ | CG5: 350000 | CI5: 45 | CJ5: ММ | CK5: 350000 | CM5: 44 | CN5: ММ | CO5: 350000 | CQ5: 43 | CR5: ММ | CS5: 350000 | CU5: 42 | CV5: ММ | CW5: 350000 | DF5: ЛИФТ 1
H6: 13.75 | I6: 25454.545 | L6: 13.75 | M6: 25454.545 | P6: 13.75 | Q6: 25454.545 | T6: 13.75 | U6: 25454.545 | X6: 13.75 | Y6: 25454.545 | AB6: 13.75 | AC6: 25454.545 | AF6: 13.75 | AG6: 25454.545 | AJ6: 13.75 | AK6: 25454.545 | AN6: 13.75 | AO6: 25454.545 | AR6: 13.75 | AS6: 25454.545 | AV6: 13.75 | AW6: 25454.545 | AZ6: 13.75 | BA6: 25454.545 | BD6: 13.75 | BE6: 25454.545 | BH6: 13.75 | BI6: 25454.545 | BL6: 13.75 | BM6: 25454.545 | BP6: 13.75 | BQ6: 25454.545 | BT6: 13.75 | BU6: 25454.545 | BX6: 13.75 | BY6: 25454.545 | CB6: 13.75 | CC6: 25454.545 | CF6: 13.75 | CG6: 25454.545 | CJ6: 13.75 | CK6: 25454.545 | CN6: 13.75 | CO6: 25454.545 | CR6: 13.75 | CS6: 25454.545 | CV6: 13.75 | CW6: 25454.545
B7: Экспл. кровля | G7: 114 | H7: ММ | I7: 200000 | K7: 113 | L7: ММ | M7: 200000 | O7: 112 | P7: ММ | Q7: 200000 | S7: 111 | T7: ММ | U7: 200000 | W7: 110 | X7: ММ | Y7: 200000 | AA7: 109 | AB7: ММ | AC7: 200000 | AE7: 108 | AF7: ММ | AG7: 200000 | AI7: 107 | AJ7: ММ | AK7: 200000 | AM7: 106 | AN7: ММ | AO7: 200000 | AQ7: 105 | AR7: ММ | AS7: 200000 | AU7: 104 | AV7: ММ | AW7: 200000 | AY7: 103 | AZ7: ММ | BA7: 200000 | BC7: 102 | BD7: ММ | BE7: 200000 | BG7: 101 | BH7: ММ | BI7: 200000 | BK7: 100 | BL7: ММ | BM7: 200000 | BO7: 99 | BP7: ММ | BQ7: 200000 | BS7: 98 | BT7: ММ | BU7: 200000 | BW7: 97 | BX7: ММ | BY7: 200000 | CA7: 96 | CB7: ММ | CC7: 200000 | CE7: 95 | CF7: ММ | CG7: 200000 | CI7: 94 | CJ7: ММ | CK7: 200000 | CM7: 93 | CN7: ММ | CO7: 200000 | CQ7: 92 | CR7: ММ | CS7: 200000 | CU7: 91 | CV7: ММ | CW7: 200000
H8: 13.75 | I8: 14545.455 | L8: 13.75 | M8: 14545.455 | P8: 13.75 | Q8: 14545.455 | T8: 13.75 | U8: 14545.455 | X8: 13.75 | Y8: 14545.455 | AB8: 13.75 | AC8: 14545.455 | AF8: 13.75 | AG8: 14545.455 | AJ8: 13.75 | AK8: 14545.455 | AN8: 13.75 | AO8: 14545.455 | AR8: 13.75 | AS8: 14545.455 | AV8: 13.75 | AW8: 14545.455 | AZ8: 13.75 | BA8: 14545.455 | BD8: 13.75 | BE8: 14545.455 | BH8: 13.75 | BI8: 14545.455 | BL8: 13.75 | BM8: 14545.455 | BP8: 13.75 | BQ8: 14545.455 | BT8: 13.75 | BU8: 14545.455 | BX8: 13.75 | BY8: 14545.455 | CB8: 13.75 | CC8: 14545.455 | CF8: 13.75 | CG8: 14545.455 | CJ8: 13.75 | CK8: 14545.455 | CN8: 13.75 | CO8: 14545.455 | CR8: 13.75 | CS8: 14545.455 | CV8: 13.75 | CW8: 14545.455
B9: ЛЕСТНИЦА | G9: ПРОЕЗД | DF9: ЛИФТ 2
B11: Экспл. кровля | G11: 115 | H11: ММ | I11: 200000 | K11: 116 | L11: ММ | M11: 200000 | O11: 117 | P11: ММ | Q11: 200000 | S11: 118 | T11: ММ | U11: 200000 | W11: 119 | X11: ММ | Y11: 200000 | AA11: 120 | AB11: ММ | AC11: 200000 | AE11: 121 | AF11: ММ | AG11: 200000 | AI11: 122 | AJ11: ММ | AK11: 200000 | AM11: 123 | AN11: ММ | AO11: 200000 | AQ11: 124 | AR11: ММ | AS11: 200000 | AU11: 125 | AV11: ММ | AW11: 200000 | AY11: 126 | AZ11: ММ | BA11: 200000 | BC11: 127 | BD11: ММ | BE11: 200000 | BG11: 128 | BH11: ММ | BI11: 200000 | BK11: 129 | BL11: ММ | BM11: 200000 | BO11: 130 | BP11: ММ | BQ11: 200000 | BS11: 131 | BT11: ММ | BU11: 200000 | BW11: 132 | BX11: ММ | BY11: 200000 | CA11: 133 | CB11: ММ | CC11: 200000 | CE11: 134 | CF11: ММ | CG11: 200000 | CI11: 135 | CJ11: ММ | CK11: 200000 | CM11: 136 | CN11: ММ | CO11: 200000 | CQ11: 137 | CR11: ММ | CS11: 200000 | CU11: 138 | CV11: ММ | CW11: 200000
H12: 13.75 | I12: 14545.455 | L12: 13.75 | M12: 14545.455 | P12: 13.75 | Q12: 14545.455 | T12: 13.75 | U12: 14545.455 | X12: 13.75 | Y12: 14545.455 | AB12: 13.75 | AC12: 14545.455 | AF12: 13.75 | AG12: 14545.455 | AJ12: 13.75 | AK12: 14545.455 | AN12: 13.75 | AO12: 14545.455 | AR12: 13.75 | AS12: 14545.455 | AV12: 13.75 | AW12: 14545.455 | AZ12: 13.75 | BA12: 14545.455 | BD12: 13.75 | BE12: 14545.455 | BH12: 13.75 | BI12: 14545.455 | BL12: 13.75 | BM12: 14545.455 | BP12: 13.75 | BQ12: 14545.455 | BT12: 13.75 | BU12: 14545.455 | BX12: 13.75 | BY12: 14545.455 | CB12: 13.75 | CC12: 14545.455 | CF12: 13.75 | CG12: 14545.455 | CJ12: 13.75 | CK12: 14545.455 | CN12: 13.75 | CO12: 14545.455 | CR12: 13.75 | CS12: 14545.455 | CV12: 13.75 | CW12: 14545.455
B13: 2 эт. | G13: 66 | H13: ММ | I13: 450000 | K13: 67 | L13: ММ | M13: 450000 | O13: 68 | P13: ММ | Q13: 450000 | S13: 69 | T13: ММ | U13: 450000 | W13: 70 | X13: ММ | Y13: 450000 | AA13: 71 | AB13: ММ | AC13: 450000 | AE13: 72 | AF13: ММ | AG13: 450000 | AI13: 73 | AJ13: ММ | AK13: 450000 | AM13: 74 | AN13: ММ | AO13: 450000 | AQ13: 75 | AR13: ММ | AS13: 450000 | AU13: 76 | AV13: ММ | AW13: 450000 | AY13: 77 | AZ13: ММ | BA13: 450000 | BC13: 78 | BD13: ММ | BE13: 450000 | BG13: 79 | BH13: ММ | BI13: 450000 | BK13: 80 | BL13: ММ | BM13: 450000 | BO13: 81 | BP13: ММ | BQ13: 450000 | BS13: 82 | BT13: ММ | BU13: 450000 | BW13: 83 | BX13: ММ | BY13: 450000 | CA13: 84 | CB13: ММ | CC13: 450000 | CE13: 85 | CF13: ММ | CG13: 450000 | CI13: 86 | CJ13: ММ | CK13: 450000 | CM13: 87 | CN13: ММ | CO13: 450000 | CQ13: 88 | CR13: ММ | CS13: 450000 | CU13: 89 | CV13: ММ | CW13: 450000 | CY13: 90 | CZ13: ММ | DA13: 450000 | DF13: ЛЕСТНИЦА
H14: 13.75 | I14: 32727.273 | L14: 13.75 | M14: 32727.273 | P14: 13.75 | Q14: 32727.273 | T14: 13.75 | U14: 32727.273 | X14: 13.75 | Y14: 32727.273 | AB14: 13.75 | AC14: 32727.273 | AF14: 13.75 | AG14: 32727.273 | AJ14: 13.75 | AK14: 32727.273 | AN14: 13.75 | AO14: 32727.273 | AR14: 13.75 | AS14: 32727.273 | AV14: 13.75 | AW14: 32727.273 | AZ14: 13.75 | BA14: 32727.273 | BD14: 13.75 | BE14: 32727.273 | BH14: 13.75 | BI14: 32727.273 | BL14: 13.75 | BM14: 32727.273 | BP14: 13.75 | BQ14: 32727.273 | BT14: 13.75 | BU14: 32727.273 | BX14: 13.75 | BY14: 32727.273 | CB14: 13.75 | CC14: 32727.273 | CF14: 13.75 | CG14: 32727.273 | CJ14: 13.75 | CK14: 32727.273 | CN14: 13.75 | CO14: 32727.273 | CR14: 13.75 | CS14: 32727.273 | CV14: 13.75 | CW14: 32727.273 | CZ14: 13.75 | DA14: 32727.273
B15: 1 эт. | G15: Техническое помещение | K15: Техническое помещение | O15: 19 | P15: ММ | Q15: 750000 | S15: 20 | T15: ММ | U15: 750000 | W15: 21 | X15: ММ | Y15: 750000 | AA15: 22 | AB15: ММ | AC15: 750000 | AE15: 23 | AF15: ММ | AG15: 750000 | AI15: 24 | AJ15: ММ | AK15: 750000 | AM15: 25 | AN15: ММ | AO15: 750000 | AQ15: 26 | AR15: ММ | AS15: 750000 | AU15: 27 | AV15: ММ | AW15: 750000 | AY15: 28 | AZ15: ММ | BA15: 750000 | BC15: 29 | BD15: ММ | BE15: 750000 | BG15: 30 | BH15: ММ | BI15: 750000 | BK15: 31 | BL15: ММ | BM15: 750000 | BO15: 32 | BP15: ММ | BQ15: 750000 | BS15: 33 | BT15: ММ | BU15: 750000 | BW15: 34 | BX15: ММ | BY15: 750000 | CA15: 35 | CB15: ММ | CC15: 750000 | CE15: 36 | CF15: ММ | CG15: 750000 | CI15: 37 | CJ15: ММ | CK15: 750000 | CM15: 38 | CN15: ММ | CO15: 750000 | CQ15: 39 | CR15: ММ | CS15: 750000 | CU15: 40 | CV15: ММ | CW15: 750000 | CY15: 41 | CZ15: ММ | DA15: 0
P16: 13.75 | Q16: 54545.455 | T16: 13.75 | U16: 54545.455 | X16: 13.75 | Y16: 54545.455 | AB16: 13.75 | AC16: 54545.455 | AF16: 13.75 | AG16: 54545.455 | AJ16: 13.75 | AK16: 54545.455 | AN16: 13.75 | AO16: 54545.455 | AR16: 13.75 | AS16: 54545.455 | AV16: 13.75 | AW16: 54545.455 | AZ16: 13.75 | BA16: 54545.455 | BD16: 13.75 | BE16: 54545.455 | BH16: 13.75 | BI16: 54545.455 | BL16: 13.75 | BM16: 54545.455 | BP16: 13.75 | BQ16: 54545.455 | BT16: 13.75 | BU16: 54545.455 | BX16: 13.75 | BY16: 54545.455 | CB16: 13.75 | CC16: 54545.455 | CF16: 13.75 | CG16: 54545.455 | CJ16: 13.75 | CK16: 54545.455 | CN16: 13.75 | CO16: 54545.455 | CR16: 13.75 | CS16: 54545.455 | CV16: 13.75 | CW16: 54545.455 | CZ16: 21
H20: =[1]Реестр!D20 -> Резерв | I20: =[1]Реестр!D20 -> Резерв | J20: =[1]Реестр!D20 -> Резерв | K20: =[1]Реестр!D20 -> Резерв | L20: =[1]Реестр!D20 -> Резерв | M20: =[1]Реестр!D20 -> Резерв | P20: =[1]Реестр!D19 -> Резерв | Q20: =[1]Реестр!D19 -> Резерв | R20: =[1]Реестр!D19 -> Резерв | S20: =[1]Реестр!D19 -> Резерв | T20: =[1]Реестр!D19 -> Резерв | U20: =[1]Реестр!D19 -> Резерв | X20: =[1]Реестр!D18 -> Резерв | Y20: =[1]Реестр!D18 -> Резерв | Z20: =[1]Реестр!D18 -> Резерв | AA20: =[1]Реестр!D18 -> Резерв | AB20: =[1]Реестр!D18 -> Резерв | AC20: =[1]Реестр!D18 -> Резерв | AF20: =[1]Реестр!D17 -> Резерв | AG20: =[1]Реестр!D17 -> Резерв | AH20: =[1]Реестр!D17 -> Резерв | AI20: =[1]Реестр!D17 -> Резерв | AJ20: =[1]Реестр!D17 -> Резерв | AK20: =[1]Реестр!D17 -> Резерв | AN20: =[1]Реестр!D16 -> Резерв | AO20: =[1]Реестр!D16 -> Резерв | AP20: =[1]Реестр!D16 -> Резерв | AQ20: =[1]Реестр!D16 -> Резерв | AR20: =[1]Реестр!D16 -> Резерв | AS20: =[1]Реестр!D16 -> Резерв | AV20: =[1]Реестр!D15 -> Резерв | AW20: =[1]Реестр!D15 -> Резерв | AX20: =[1]Реестр!D15 -> Резерв | AY20: =[1]Реестр!D15 -> Резерв | AZ20: =[1]Реестр!D15 -> Резерв | BA20: =[1]Реестр!D15 -> Резерв | BC20: =[1]Реестр!D14 -> Устная бронь | BD20: =[1]Реестр!D14 -> Устная бронь | BE20: =[1]Реестр!D14 -> Устная бронь | BF20: =[1]Реестр!D14 -> Устная бронь | BG20: =[1]Реестр!D13 -> Устная бронь | BH20: =[1]Реестр!D13 -> Устная бронь | BI20: =[1]Реестр!D13 -> Устная бронь | BJ20: =[1]Реестр!D13 -> Устная бронь | BK20: =[1]Реестр!D12 -> Устная бронь | BL20: =[1]Реестр!D12 -> Устная бронь | BM20: =[1]Реестр!D12 -> Устная бронь | BN20: =[1]Реестр!D12 -> Устная бронь | BO20: =[1]Реестр!D11 -> Устная бронь | BP20: =[1]Реестр!D11 -> Устная бронь | BQ20: =[1]Реестр!D11 -> Устная бронь | BR20: =[1]Реестр!D11 -> Устная бронь | BS20: =[1]Реестр!D10 -> Устная бронь | BT20: =[1]Реестр!D10 -> Устная бронь | BU20: =[1]Реестр!D10 -> Устная бронь | BV20: =[1]Реестр!D10 -> Устная бронь | BW20: =[1]Реестр!D9 -> Устная бронь | BX20: =[1]Реестр!D9 -> Устная бронь | BY20: =[1]Реестр!D9 -> Устная бронь | BZ20: =[1]Реестр!D9 -> Устная бронь | CA20: =[1]Реестр!D8 -> Устная бронь | CB20: =[1]Реестр!D8 -> Устная бронь | CC20: =[1]Реестр!D8 -> Устная бронь | CD20: =[1]Реестр!D8 -> Устная бронь | CE20: =[1]Реестр!D7 -> Устная бронь | CF20: =[1]Реестр!D7 -> Устная бронь | CG20: =[1]Реестр!D7 -> Устная бронь | CH20: =[1]Реестр!D7 -> Устная бронь | CI20: =[1]Реестр!D6 -> Устная бронь | CJ20: =[1]Реестр!D6 -> Устная бронь | CK20: =[1]Реестр!D6 -> Устная бронь | CL20: =[1]Реестр!D6 -> Устная бронь | CM20: =[1]Реестр!D5 -> Устная бронь | CN20: =[1]Реестр!D5 -> Устная бронь | CO20: =[1]Реестр!D5 -> Устная бронь | CP20: =[1]Реестр!D5 -> Устная бронь | CQ20: =[1]Реестр!D4 -> Устная бронь | CR20: =[1]Реестр!D4 -> Устная бронь | CS20: =[1]Реестр!D4 -> Устная бронь | CT20: =[1]Реестр!D4 -> Устная бронь | CU20: =[1]Реестр!D3 -> Устная бронь | CV20: =[1]Реестр!D3 -> Устная бронь | CW20: =[1]Реестр!D3 -> Устная бронь | CX20: =[1]Реестр!D3 -> Устная бронь
G21: =[1]Реестр!D67 -> Устная бронь | H21: =[1]Реестр!D67 -> Устная бронь | I21: =[1]Реестр!D67 -> Устная бронь | J21: =[1]Реестр!D67 -> Устная бронь | K21: =[1]Реестр!D66 -> Устная бронь | L21: =[1]Реестр!D66 -> Устная бронь | M21: =[1]Реестр!D66 -> Устная бронь | N21: =[1]Реестр!D66 -> Устная бронь | O21: =[1]Реестр!D65 -> Устная бронь | P21: =[1]Реестр!D65 -> Устная бронь | Q21: =[1]Реестр!D65 -> Устная бронь | R21: =[1]Реестр!D65 -> Устная бронь | S21: =[1]Реестр!D64 -> Устная бронь | T21: =[1]Реестр!D64 -> Устная бронь | U21: =[1]Реестр!D64 -> Устная бронь | V21: =[1]Реестр!D64 -> Устная бронь | W21: =[1]Реестр!D63 -> Устная бронь | X21: =[1]Реестр!D63 -> Устная бронь | Y21: =[1]Реестр!D63 -> Устная бронь | Z21: =[1]Реестр!D63 -> Устная бронь | AA21: =[1]Реестр!D62 -> Устная бронь | AB21: =[1]Реестр!D62 -> Устная бронь | AC21: =[1]Реестр!D62 -> Устная бронь | AD21: =[1]Реестр!D62 -> Устная бронь | AE21: =[1]Реестр!D61 -> Устная бронь | AF21: =[1]Реестр!D61 -> Устная бронь | AG21: =[1]Реестр!D61 -> Устная бронь | AH21: =[1]Реестр!D61 -> Устная бронь | AI21: =[1]Реестр!D60 -> Устная бронь | AJ21: =[1]Реестр!D60 -> Устная бронь | AK21: =[1]Реестр!D60 -> Устная бронь | AL21: =[1]Реестр!D60 -> Устная бронь | AM21: =[1]Реестр!D59 -> Устная бронь | AN21: =[1]Реестр!D59 -> Устная бронь | AO21: =[1]Реестр!D59 -> Устная бронь | AP21: =[1]Реестр!D59 -> Устная бронь | AQ21: =[1]Реестр!D58 -> Устная бронь | AR21: =[1]Реестр!D58 -> Устная бронь | AS21: =[1]Реестр!D58 -> Устная бронь | AT21: =[1]Реестр!D58 -> Устная бронь | AU21: =[1]Реестр!D57 -> Устная бронь | AV21: =[1]Реестр!D57 -> Устная бронь | AW21: =[1]Реестр!D57 -> Устная бронь | AX21: =[1]Реестр!D57 -> Устная бронь | AY21: =[1]Реестр!D56 -> Устная бронь | AZ21: =[1]Реестр!D56 -> Устная бронь | BA21: =[1]Реестр!D56 -> Устная бронь | BB21: =[1]Реестр!D56 -> Устная бронь | BC21: =[1]Реестр!D55 -> Устная бронь | BD21: =[1]Реестр!D55 -> Устная бронь | BE21: =[1]Реестр!D55 -> Устная бронь | BF21: =[1]Реестр!D55 -> Устная бронь | BG21: =[1]Реестр!D54 -> Устная бронь | BH21: =[1]Реестр!D54 -> Устная бронь | BI21: =[1]Реестр!D54 -> Устная бронь | BJ21: =[1]Реестр!D54 -> Устная бронь | BK21: =[1]Реестр!D53 -> Устная бронь | BL21: =[1]Реестр!D53 -> Устная бронь | BM21: =[1]Реестр!D53 -> Устная бронь | BN21: =[1]Реестр!D53 -> Устная бронь | BO21: =[1]Реестр!D52 -> Устная бронь | BP21: =[1]Реестр!D52 -> Устная бронь | BQ21: =[1]Реестр!D52 -> Устная бронь | BR21: =[1]Реестр!D52 -> Устная бронь | BS21: =[1]Реестр!D51 -> Устная бронь | BT21: =[1]Реестр!D51 -> Устная бронь | BU21: =[1]Реестр!D51 -> Устная бронь | BV21: =[1]Реестр!D51 -> Устная бронь | BW21: =[1]Реестр!D50 -> Устная бронь | BX21: =[1]Реестр!D50 -> Устная бронь | BY21: =[1]Реестр!D50 -> Устная бронь | BZ21: =[1]Реестр!D50 -> Устная бронь | CA21: =[1]Реестр!D49 -> Устная бронь | CB21: =[1]Реестр!D49 -> Устная бронь | CC21: =[1]Реестр!D49 -> Устная бронь | CD21: =[1]Реестр!D49 -> Устная бронь | CE21: =[1]Реестр!D48 -> Устная бронь | CF21: =[1]Реестр!D48 -> Устная бронь | CG21: =[1]Реестр!D48 -> Устная бронь | CH21: =[1]Реестр!D48 -> Устная бронь | CI21: =[1]Реестр!D47 -> Устная бронь | CJ21: =[1]Реестр!D47 -> Устная бронь | CK21: =[1]Реестр!D47 -> Устная бронь | CL21: =[1]Реестр!D47 -> Устная бронь | CM21: =[1]Реестр!D46 -> Устная бронь | CN21: =[1]Реестр!D46 -> Устная бронь | CO21: =[1]Реестр!D46 -> Устная бронь | CP21: =[1]Реестр!D46 -> Устная бронь | CQ21: =[1]Реестр!D45 -> Устная бронь | CR21: =[1]Реестр!D45 -> Устная бронь | CS21: =[1]Реестр!D45 -> Устная бронь | CT21: =[1]Реестр!D45 -> Устная бронь | CU21: =[1]Реестр!D44 -> Устная бронь | CV21: =[1]Реестр!D44 -> Устная бронь | CW21: =[1]Реестр!D44 -> Устная бронь | CX21: =[1]Реестр!D44 -> Устная бронь
G22: =[1]Реестр!D116 -> Свободен | H22: =[1]Реестр!D116 -> Свободен | I22: =[1]Реестр!D116 -> Свободен | J22: =[1]Реестр!D116 -> Свободен | K22: =[1]Реестр!D115 -> Свободен | L22: =[1]Реестр!D115 -> Свободен | M22: =[1]Реестр!D115 -> Свободен | N22: =[1]Реестр!D115 -> Свободен | O22: =[1]Реестр!D114 -> Свободен | P22: =[1]Реестр!D114 -> Свободен | Q22: =[1]Реестр!D114 -> Свободен | R22: =[1]Реестр!D114 -> Свободен | S22: =[1]Реестр!D113 -> Свободен | T22: =[1]Реестр!D113 -> Свободен | U22: =[1]Реестр!D113 -> Свободен | V22: =[1]Реестр!D113 -> Свободен | W22: =[1]Реестр!D112 -> Свободен | X22: =[1]Реестр!D112 -> Свободен | Y22: =[1]Реестр!D112 -> Свободен | Z22: =[1]Реестр!D112 -> Свободен | AA22: =[1]Реестр!D111 -> Свободен | AB22: =[1]Реестр!D111 -> Свободен | AC22: =[1]Реестр!D111 -> Свободен | AD22: =[1]Реестр!D111 -> Свободен | AE22: =[1]Реестр!D110 -> Свободен | AF22: =[1]Реестр!D110 -> Свободен | AG22: =[1]Реестр!D110 -> Свободен | AH22: =[1]Реестр!D110 -> Свободен | AI22: =[1]Реестр!D109 -> Свободен | AJ22: =[1]Реестр!D109 -> Свободен | AK22: =[1]Реестр!D109 -> Свободен | AL22: =[1]Реестр!D109 -> Свободен | AM22: =[1]Реестр!D108 -> Свободен | AN22: =[1]Реестр!D108 -> Свободен | AO22: =[1]Реестр!D108 -> Свободен | AP22: =[1]Реестр!D108 -> Свободен | AQ22: =[1]Реестр!D107 -> Свободен | AR22: =[1]Реестр!D107 -> Свободен | AS22: =[1]Реестр!D107 -> Свободен | AT22: =[1]Реестр!D107 -> Свободен | AU22: =[1]Реестр!D106 -> Свободен | AV22: =[1]Реестр!D106 -> Свободен | AW22: =[1]Реестр!D106 -> Свободен | AX22: =[1]Реестр!D106 -> Свободен | AY22: =[1]Реестр!D105 -> Свободен | AZ22: =[1]Реестр!D105 -> Свободен | BA22: =[1]Реестр!D105 -> Свободен | BB22: =[1]Реестр!D105 -> Свободен | BC22: =[1]Реестр!D104 -> Свободен | BD22: =[1]Реестр!D104 -> Свободен | BE22: =[1]Реестр!D104 -> Свободен | BF22: =[1]Реестр!D104 -> Свободен | BG22: =[1]Реестр!D103 -> Свободен | BH22: =[1]Реестр!D103 -> Свободен | BI22: =[1]Реестр!D103 -> Свободен | BJ22: =[1]Реестр!D103 -> Свободен | BK22: =[1]Реестр!D102 -> Свободен | BL22: =[1]Реестр!D102 -> Свободен | BM22: =[1]Реестр!D102 -> Свободен | BN22: =[1]Реестр!D102 -> Свободен | BO22: =[1]Реестр!D101 -> Свободен | BP22: =[1]Реестр!D101 -> Свободен | BQ22: =[1]Реестр!D101 -> Свободен | BR22: =[1]Реестр!D101 -> Свободен | BS22: =[1]Реестр!D100 -> Свободен | BT22: =[1]Реестр!D100 -> Свободен | BU22: =[1]Реестр!D100 -> Свободен | BV22: =[1]Реестр!D100 -> Свободен | BW22: =[1]Реестр!D99 -> Свободен | BX22: =[1]Реестр!D99 -> Свободен | BY22: =[1]Реестр!D99 -> Свободен | BZ22: =[1]Реестр!D99 -> Свободен | CA22: =[1]Реестр!D98 -> Свободен | CB22: =[1]Реестр!D98 -> Свободен | CC22: =[1]Реестр!D98 -> Свободен | CD22: =[1]Реестр!D98 -> Свободен | CE22: =[1]Реестр!D97 -> Свободен | CF22: =[1]Реестр!D97 -> Свободен | CG22: =[1]Реестр!D97 -> Свободен | CH22: =[1]Реестр!D97 -> Свободен | CI22: =[1]Реестр!D96 -> Свободен | CJ22: =[1]Реестр!D96 -> Свободен | CK22: =[1]Реестр!D96 -> Свободен | CL22: =[1]Реестр!D96 -> Свободен | CM22: =[1]Реестр!D95 -> Свободен | CN22: =[1]Реестр!D95 -> Свободен | CO22: =[1]Реестр!D95 -> Свободен | CP22: =[1]Реестр!D95 -> Свободен | CQ22: =[1]Реестр!D94 -> Свободен | CR22: =[1]Реестр!D94 -> Свободен | CS22: =[1]Реестр!D94 -> Свободен | CT22: =[1]Реестр!D94 -> Свободен | CU22: =[1]Реестр!D93 -> Свободен | CV22: =[1]Реестр!D93 -> Свободен | CW22: =[1]Реестр!D93 -> Свободен | CX22: =[1]Реестр!D93 -> Свободен
G23: =[1]Реестр!D117 -> Свободен | H23: =[1]Реестр!D117 -> Свободен | I23: =[1]Реестр!D117 -> Свободен | J23: =[1]Реестр!D117 -> Свободен | K23: =[1]Реестр!D118 -> Свободен | L23: =[1]Реестр!D118 -> Свободен | M23: =[1]Реестр!D118 -> Свободен | N23: =[1]Реестр!D118 -> Свободен | O23: =[1]Реестр!D119 -> Свободен | P23: =[1]Реестр!D119 -> Свободен | Q23: =[1]Реестр!D119 -> Свободен | R23: =[1]Реестр!D119 -> Свободен | S23: =[1]Реестр!D120 -> Свободен | T23: =[1]Реестр!D120 -> Свободен | U23: =[1]Реестр!D120 -> Свободен | V23: =[1]Реестр!D120 -> Свободен | W23: =[1]Реестр!D121 -> Свободен | X23: =[1]Реестр!D121 -> Свободен | Y23: =[1]Реестр!D121 -> Свободен | Z23: =[1]Реестр!D121 -> Свободен | AA23: =[1]Реестр!D122 -> Свободен | AB23: =[1]Реестр!D122 -> Свободен | AC23: =[1]Реестр!D122 -> Свободен | AD23: =[1]Реестр!D122 -> Свободен | AE23: =[1]Реестр!D123 -> Свободен | AF23: =[1]Реестр!D123 -> Свободен | AG23: =[1]Реестр!D123 -> Свободен | AH23: =[1]Реестр!D123 -> Свободен | AI23: =[1]Реестр!D124 -> Свободен | AJ23: =[1]Реестр!D124 -> Свободен | AK23: =[1]Реестр!D124 -> Свободен | AL23: =[1]Реестр!D124 -> Свободен | AM23: =[1]Реестр!D125 -> Свободен | AN23: =[1]Реестр!D125 -> Свободен | AO23: =[1]Реестр!D125 -> Свободен | AP23: =[1]Реестр!D125 -> Свободен | AQ23: =[1]Реестр!D126 -> Свободен | AR23: =[1]Реестр!D126 -> Свободен | AS23: =[1]Реестр!D126 -> Свободен | AT23: =[1]Реестр!D126 -> Свободен | AU23: =[1]Реестр!D127 -> Свободен | AV23: =[1]Реестр!D127 -> Свободен | AW23: =[1]Реестр!D127 -> Свободен | AX23: =[1]Реестр!D127 -> Свободен | AY23: =[1]Реестр!D128 -> Свободен | AZ23: =[1]Реестр!D128 -> Свободен | BA23: =[1]Реестр!D128 -> Свободен | BB23: =[1]Реестр!D128 -> Свободен | BC23: =[1]Реестр!D129 -> Свободен | BD23: =[1]Реестр!D129 -> Свободен | BE23: =[1]Реестр!D129 -> Свободен | BF23: =[1]Реестр!D129 -> Свободен | BG23: =[1]Реестр!D130 -> Свободен | BH23: =[1]Реестр!D130 -> Свободен | BI23: =[1]Реестр!D130 -> Свободен | BJ23: =[1]Реестр!D130 -> Свободен | BK23: =[1]Реестр!D131 -> Свободен | BL23: =[1]Реестр!D131 -> Свободен | BM23: =[1]Реестр!D131 -> Свободен | BN23: =[1]Реестр!D131 -> Свободен | BO23: =[1]Реестр!D132 -> Свободен | BP23: =[1]Реестр!D132 -> Свободен | BQ23: =[1]Реестр!D132 -> Свободен | BR23: =[1]Реестр!D132 -> Свободен | BS23: =[1]Реестр!D133 -> Свободен | BT23: =[1]Реестр!D133 -> Свободен | BU23: =[1]Реестр!D133 -> Свободен | BV23: =[1]Реестр!D133 -> Свободен | BW23: =[1]Реестр!D134 -> Свободен | BX23: =[1]Реестр!D134 -> Свободен | BY23: =[1]Реестр!D134 -> Свободен | BZ23: =[1]Реестр!D134 -> Свободен | CA23: =[1]Реестр!D135 -> Свободен | CB23: =[1]Реестр!D135 -> Свободен | CC23: =[1]Реестр!D135 -> Свободен | CD23: =[1]Реестр!D135 -> Свободен | CE23: =[1]Реестр!D136 -> Свободен | CF23: =[1]Реестр!D136 -> Свободен | CG23: =[1]Реестр!D136 -> Свободен | CH23: =[1]Реестр!D136 -> Свободен | CI23: =[1]Реестр!D137 -> Свободен | CJ23: =[1]Реестр!D137 -> Свободен | CK23: =[1]Реестр!D137 -> Свободен | CL23: =[1]Реестр!D137 -> Свободен | CM23: =[1]Реестр!D138 -> Свободен | CN23: =[1]Реестр!D138 -> Свободен | CO23: =[1]Реестр!D138 -> Свободен | CP23: =[1]Реестр!D138 -> Свободен | CQ23: =[1]Реестр!D139 -> Свободен | CR23: =[1]Реестр!D139 -> Свободен | CS23: =[1]Реестр!D139 -> Свободен | CT23: =[1]Реестр!D139 -> Свободен | CU23: =[1]Реестр!D140 -> Свободен | CV23: =[1]Реестр!D140 -> Свободен | CW23: =[1]Реестр!D140 -> Свободен | CX23: =[1]Реестр!D140 -> Свободен
G24: =[1]Реестр!D68 -> Устная бронь | H24: =[1]Реестр!D68 -> Устная бронь | I24: =[1]Реестр!D68 -> Устная бронь | J24: =[1]Реестр!D68 -> Устная бронь | K24: =[1]Реестр!D69 -> Устная бронь | L24: =[1]Реестр!D69 -> Устная бронь | M24: =[1]Реестр!D69 -> Устная бронь | N24: =[1]Реестр!D69 -> Устная бронь | O24: =[1]Реестр!D70 -> Устная бронь | P24: =[1]Реестр!D70 -> Устная бронь | Q24: =[1]Реестр!D70 -> Устная бронь | R24: =[1]Реестр!D70 -> Устная бронь | S24: =[1]Реестр!D71 -> Устная бронь | T24: =[1]Реестр!D71 -> Устная бронь | U24: =[1]Реестр!D71 -> Устная бронь | V24: =[1]Реестр!D71 -> Устная бронь | W24: =[1]Реестр!D72 -> Устная бронь | X24: =[1]Реестр!D72 -> Устная бронь | Y24: =[1]Реестр!D72 -> Устная бронь | Z24: =[1]Реестр!D72 -> Устная бронь | AA24: =[1]Реестр!D73 -> Устная бронь | AB24: =[1]Реестр!D73 -> Устная бронь | AC24: =[1]Реестр!D73 -> Устная бронь | AD24: =[1]Реестр!D73 -> Устная бронь | AE24: =[1]Реестр!D74 -> Устная бронь | AF24: =[1]Реестр!D74 -> Устная бронь | AG24: =[1]Реестр!D74 -> Устная бронь | AH24: =[1]Реестр!D74 -> Устная бронь | AI24: =[1]Реестр!D75 -> Устная бронь | AJ24: =[1]Реестр!D75 -> Устная бронь | AK24: =[1]Реестр!D75 -> Устная бронь | AL24: =[1]Реестр!D75 -> Устная бронь | AM24: =[1]Реестр!D76 -> Устная бронь | AN24: =[1]Реестр!D76 -> Устная бронь | AO24: =[1]Реестр!D76 -> Устная бронь | AP24: =[1]Реестр!D76 -> Устная бронь | AQ24: =[1]Реестр!D77 -> Устная бронь | AR24: =[1]Реестр!D77 -> Устная бронь | AS24: =[1]Реестр!D77 -> Устная бронь | AT24: =[1]Реестр!D77 -> Устная бронь | AU24: =[1]Реестр!D78 -> Устная бронь | AV24: =[1]Реестр!D78 -> Устная бронь | AW24: =[1]Реестр!D78 -> Устная бронь | AX24: =[1]Реестр!D78 -> Устная бронь | AY24: =[1]Реестр!D79 -> Устная бронь | AZ24: =[1]Реестр!D79 -> Устная бронь | BA24: =[1]Реестр!D79 -> Устная бронь | BB24: =[1]Реестр!D79 -> Устная бронь | BC24: =[1]Реестр!D80 -> Устная бронь | BD24: =[1]Реестр!D80 -> Устная бронь | BE24: =[1]Реестр!D80 -> Устная бронь | BF24: =[1]Реестр!D80 -> Устная бронь | BG24: =[1]Реестр!D81 -> Устная бронь | BH24: =[1]Реестр!D81 -> Устная бронь | BI24: =[1]Реестр!D81 -> Устная бронь | BJ24: =[1]Реестр!D81 -> Устная бронь | BK24: =[1]Реестр!D82 -> Устная бронь | BL24: =[1]Реестр!D82 -> Устная бронь | BM24: =[1]Реестр!D82 -> Устная бронь | BN24: =[1]Реестр!D82 -> Устная бронь | BO24: =[1]Реестр!D83 -> Устная бронь | BP24: =[1]Реестр!D83 -> Устная бронь | BQ24: =[1]Реестр!D83 -> Устная бронь | BR24: =[1]Реестр!D83 -> Устная бронь | BS24: =[1]Реестр!D84 -> Устная бронь | BT24: =[1]Реестр!D84 -> Устная бронь | BU24: =[1]Реестр!D84 -> Устная бронь | BV24: =[1]Реестр!D84 -> Устная бронь | BW24: =[1]Реестр!D85 -> Устная бронь | BX24: =[1]Реестр!D85 -> Устная бронь | BY24: =[1]Реестр!D85 -> Устная бронь | BZ24: =[1]Реестр!D85 -> Устная бронь | CA24: =[1]Реестр!D86 -> Устная бронь | CB24: =[1]Реестр!D86 -> Устная бронь | CC24: =[1]Реестр!D86 -> Устная бронь | CD24: =[1]Реестр!D86 -> Устная бронь | CE24: =[1]Реестр!D87 -> Устная бронь | CF24: =[1]Реестр!D87 -> Устная бронь | CG24: =[1]Реестр!D87 -> Устная бронь | CH24: =[1]Реестр!D87 -> Устная бронь | CI24: =[1]Реестр!D88 -> Устная бронь | CJ24: =[1]Реестр!D88 -> Устная бронь | CK24: =[1]Реестр!D88 -> Устная бронь | CL24: =[1]Реестр!D88 -> Устная бронь | CM24: =[1]Реестр!D89 -> Устная бронь | CN24: =[1]Реестр!D89 -> Устная бронь | CO24: =[1]Реестр!D89 -> Устная бронь | CP24: =[1]Реестр!D89 -> Устная бронь | CQ24: =[1]Реестр!D90 -> Устная бронь | CR24: =[1]Реестр!D90 -> Устная бронь | CS24: =[1]Реестр!D90 -> Устная бронь | CT24: =[1]Реестр!D90 -> Устная бронь | CU24: =[1]Реестр!D91 -> Устная бронь | CV24: =[1]Реестр!D91 -> Устная бронь | CW24: =[1]Реестр!D91 -> Устная бронь | CX24: =[1]Реестр!D91 -> Устная бронь | CY24: =[1]Реестр!D92 -> Устная бронь | CZ24: =[1]Реестр!D92 -> Устная бронь | DA24: =[1]Реестр!D92 -> Устная бронь | DB24: =[1]Реестр!D92 -> Устная бронь
O25: =[1]Реестр!D21 -> Устная бронь | P25: =[1]Реестр!D21 -> Устная бронь | Q25: =[1]Реестр!D21 -> Устная бронь | R25: =[1]Реестр!D21 -> Устная бронь | S25: =[1]Реестр!D22 -> Устная бронь | T25: =[1]Реестр!D22 -> Устная бронь | U25: =[1]Реестр!D22 -> Устная бронь | V25: =[1]Реестр!D22 -> Устная бронь | W25: =[1]Реестр!D23 -> Устная бронь | X25: =[1]Реестр!D23 -> Устная бронь | Y25: =[1]Реестр!D23 -> Устная бронь | Z25: =[1]Реестр!D23 -> Устная бронь | AA25: =[1]Реестр!D24 -> Устная бронь | AB25: =[1]Реестр!D24 -> Устная бронь | AC25: =[1]Реестр!D24 -> Устная бронь | AD25: =[1]Реестр!D24 -> Устная бронь | AE25: =[1]Реестр!D25 -> Устная бронь | AF25: =[1]Реестр!D25 -> Устная бронь | AG25: =[1]Реестр!D25 -> Устная бронь | AH25: =[1]Реестр!D25 -> Устная бронь | AI25: =[1]Реестр!D26 -> Устная бронь | AJ25: =[1]Реестр!D26 -> Устная бронь | AK25: =[1]Реестр!D26 -> Устная бронь | AL25: =[1]Реестр!D26 -> Устная бронь | AM25: =[1]Реестр!D27 -> Устная бронь | AN25: =[1]Реестр!D27 -> Устная бронь | AO25: =[1]Реестр!D27 -> Устная бронь | AP25: =[1]Реестр!D27 -> Устная бронь | AQ25: =[1]Реестр!D28 -> Устная бронь | AR25: =[1]Реестр!D28 -> Устная бронь | AS25: =[1]Реестр!D28 -> Устная бронь | AT25: =[1]Реестр!D28 -> Устная бронь | AU25: =[1]Реестр!D29 -> Устная бронь | AV25: =[1]Реестр!D29 -> Устная бронь | AW25: =[1]Реестр!D29 -> Устная бронь | AX25: =[1]Реестр!D29 -> Устная бронь | AY25: =[1]Реестр!D30 -> Устная бронь | AZ25: =[1]Реестр!D30 -> Устная бронь | BA25: =[1]Реестр!D30 -> Устная бронь | BB25: =[1]Реестр!D30 -> Устная бронь | BC25: =[1]Реестр!D31 -> Устная бронь | BD25: =[1]Реестр!D31 -> Устная бронь | BE25: =[1]Реестр!D31 -> Устная бронь | BF25: =[1]Реестр!D31 -> Устная бронь | BG25: =[1]Реестр!D32 -> Устная бронь | BH25: =[1]Реестр!D32 -> Устная бронь | BI25: =[1]Реестр!D32 -> Устная бронь | BJ25: =[1]Реестр!D32 -> Устная бронь | BK25: =[1]Реестр!D33 -> Устная бронь | BL25: =[1]Реестр!D33 -> Устная бронь | BM25: =[1]Реестр!D33 -> Устная бронь | BN25: =[1]Реестр!D33 -> Устная бронь | BO25: =[1]Реестр!D34 -> Устная бронь | BP25: =[1]Реестр!D34 -> Устная бронь | BQ25: =[1]Реестр!D34 -> Устная бронь | BR25: =[1]Реестр!D34 -> Устная бронь | BS25: =[1]Реестр!D35 -> Устная бронь | BT25: =[1]Реестр!D35 -> Устная бронь | BU25: =[1]Реестр!D35 -> Устная бронь | BV25: =[1]Реестр!D35 -> Устная бронь | BW25: =[1]Реестр!D36 -> Устная бронь | BX25: =[1]Реестр!D36 -> Устная бронь | BY25: =[1]Реестр!D36 -> Устная бронь | BZ25: =[1]Реестр!D36 -> Устная бронь | CA25: =[1]Реестр!D37 -> Устная бронь | CB25: =[1]Реестр!D37 -> Устная бронь | CC25: =[1]Реестр!D37 -> Устная бронь | CD25: =[1]Реестр!D37 -> Устная бронь | CE25: =[1]Реестр!D38 -> Устная бронь | CF25: =[1]Реестр!D38 -> Устная бронь | CG25: =[1]Реестр!D38 -> Устная бронь | CH25: =[1]Реестр!D38 -> Устная бронь | CI25: =[1]Реестр!D39 -> Устная бронь | CJ25: =[1]Реестр!D39 -> Устная бронь | CK25: =[1]Реестр!D39 -> Устная бронь | CL25: =[1]Реестр!D39 -> Устная бронь | CM25: =[1]Реестр!D40 -> Устная бронь | CN25: =[1]Реестр!D40 -> Устная бронь | CO25: =[1]Реестр!D40 -> Устная бронь | CP25: =[1]Реестр!D40 -> Устная бронь | CQ25: =[1]Реестр!D41 -> Устная бронь | CR25: =[1]Реестр!D41 -> Устная бронь | CS25: =[1]Реестр!D41 -> Устная бронь | CT25: =[1]Реестр!D41 -> Устная бронь | CU25: =[1]Реестр!D42 -> Устная бронь | CV25: =[1]Реестр!D42 -> Устная бронь | CW25: =[1]Реестр!D42 -> Устная бронь | CX25: =[1]Реестр!D42 -> Устная бронь | CY25: =[1]Реестр!D43 -> Резерв | CZ25: =[1]Реестр!D43 -> Резерв | DA25: =[1]Реестр!D43 -> Резерв | DB25: =[1]Реестр!D43 -> Резерв | DC25: =[1]Реестр!D43 -> Резерв | DD25: =[1]Реестр!D43 -> Резерв
H26: 1 | I26: 0 | J26: 0 | K26: 0 | L26: 0 | M26: 0 | P26: 1 | Q26: 0 | R26: 0 | S26: 0 | T26: 0 | U26: 0 | X26: 1 | Y26: 0 | Z26: 0 | AA26: 0 | AB26: 0 | AC26: 0 | AF26: 1 | AG26: 0 | AH26: 0 | AI26: 0 | AJ26: 0 | AK26: 0 | AN26: 1 | AO26: 0 | AP26: 0 | AQ26: 0 | AR26: 0 | AS26: 0 | AV26: 1 | AW26: 0 | AX26: 0 | AY26: 0 | AZ26: 0 | BA26: 0 | BC26: 1 | BD26: 0 | BE26: 0 | BF26: 0 | BG26: 1 | BH26: 0 | BI26: 0 | BJ26: 0 | BK26: 1 | BL26: 0 | BM26: 0 | BN26: 0 | BO26: 1 | BP26: 0 | BQ26: 0 | BR26: 0 | BS26: 1 | BT26: 0 | BU26: 0 | BV26: 0 | BW26: 1 | BX26: 0 | BY26: 0 | BZ26: 0 | CA26: 1 | CB26: 0 | CC26: 0 | CD26: 0 | CE26: 1 | CF26: 0 | CG26: 0 | CH26: 0 | CI26: 1 | CJ26: 0 | CK26: 0 | CL26: 0 | CM26: 1 | CN26: 0 | CO26: 0 | CP26: 0 | CQ26: 1 | CR26: 0 | CS26: 0 | CT26: 0 | CU26: 1 | CV26: 0 | CW26: 0 | CX26: 0
G27: 1 | H27: 0 | I27: 0 | J27: 0 | K27: 1 | L27: 0 | M27: 0 | N27: 0 | O27: 1 | P27: 0 | Q27: 0 | R27: 0 | S27: 1 | T27: 0 | U27: 0 | V27: 0 | W27: 1 | X27: 0 | Y27: 0 | Z27: 0 | AA27: 1 | AB27: 0 | AC27: 0 | AD27: 0 | AE27: 1 | AF27: 0 | AG27: 0 | AH27: 0 | AI27: 1 | AJ27: 0 | AK27: 0 | AL27: 0 | AM27: 1 | AN27: 0 | AO27: 0 | AP27: 0 | AQ27: 1 | AR27: 0 | AS27: 0 | AT27: 0 | AU27: 1 | AV27: 0 | AW27: 0 | AX27: 0 | AY27: 1 | AZ27: 0 | BA27: 0 | BB27: 0 | BC27: 1 | BD27: 0 | BE27: 0 | BF27: 0 | BG27: 1 | BH27: 0 | BI27: 0 | BJ27: 0 | BK27: 1 | BL27: 0 | BM27: 0 | BN27: 0 | BO27: 1 | BP27: 0 | BQ27: 0 | BR27: 0 | BS27: 1 | BT27: 0 | BU27: 0 | BV27: 0 | BW27: 1 | BX27: 0 | BY27: 0 | BZ27: 0 | CA27: 1 | CB27: 0 | CC27: 0 | CD27: 0 | CE27: 1 | CF27: 0 | CG27: 0 | CH27: 0 | CI27: 1 | CJ27: 0 | CK27: 0 | CL27: 0 | CM27: 1 | CN27: 0 | CO27: 0 | CP27: 0 | CQ27: 1 | CR27: 0 | CS27: 0 | CT27: 0 | CU27: 1 | CV27: 0 | CW27: 0 | CX27: 0
G28: 1 | H28: 0 | I28: 0 | J28: 0 | K28: 1 | L28: 0 | M28: 0 | N28: 0 | O28: 1 | P28: 0 | Q28: 0 | R28: 0 | S28: 1 | T28: 0 | U28: 0 | V28: 0 | W28: 1 | X28: 0 | Y28: 0 | Z28: 0 | AA28: 1 | AB28: 0 | AC28: 0 | AD28: 0 | AE28: 1 | AF28: 0 | AG28: 0 | AH28: 0 | AI28: 1 | AJ28: 0 | AK28: 0 | AL28: 0 | AM28: 1 | AN28: 0 | AO28: 0 | AP28: 0 | AQ28: 1 | AR28: 0 | AS28: 0 | AT28: 0 | AU28: 1 | AV28: 0 | AW28: 0 | AX28: 0 | AY28: 1 | AZ28: 0 | BA28: 0 | BB28: 0 | BC28: 1 | BD28: 0 | BE28: 0 | BF28: 0 | BG28: 1 | BH28: 0 | BI28: 0 | BJ28: 0 | BK28: 1 | BL28: 0 | BM28: 0 | BN28: 0 | BO28: 1 | BP28: 0 | BQ28: 0 | BR28: 0 | BS28: 1 | BT28: 0 | BU28: 0 | BV28: 0 | BW28: 1 | BX28: 0 | BY28: 0 | BZ28: 0 | CA28: 1 | CB28: 0 | CC28: 0 | CD28: 0 | CE28: 1 | CF28: 0 | CG28: 0 | CH28: 0 | CI28: 1 | CJ28: 0 | CK28: 0 | CL28: 0 | CM28: 1 | CN28: 0 | CO28: 0 | CP28: 0 | CQ28: 1 | CR28: 0 | CS28: 0 | CT28: 0 | CU28: 1 | CV28: 0 | CW28: 0 | CX28: 0
G29: 1 | H29: 0 | I29: 0 | J29: 0 | K29: 1 | L29: 0 | M29: 0 | N29: 0 | O29: 1 | P29: 0 | Q29: 0 | R29: 0 | S29: 1 | T29: 0 | U29: 0 | V29: 0 | W29: 1 | X29: 0 | Y29: 0 | Z29: 0 | AA29: 1 | AB29: 0 | AC29: 0 | AD29: 0 | AE29: 1 | AF29: 0 | AG29: 0 | AH29: 0 | AI29: 1 | AJ29: 0 | AK29: 0 | AL29: 0 | AM29: 1 | AN29: 0 | AO29: 0 | AP29: 0 | AQ29: 1 | AR29: 0 | AS29: 0 | AT29: 0 | AU29: 1 | AV29: 0 | AW29: 0 | AX29: 0 | AY29: 1 | AZ29: 0 | BA29: 0 | BB29: 0 | BC29: 1 | BD29: 0 | BE29: 0 | BF29: 0 | BG29: 1 | BH29: 0 | BI29: 0 | BJ29: 0 | BK29: 1 | BL29: 0 | BM29: 0 | BN29: 0 | BO29: 1 | BP29: 0 | BQ29: 0 | BR29: 0 | BS29: 1 | BT29: 0 | BU29: 0 | BV29: 0 | BW29: 1 | BX29: 0 | BY29: 0 | BZ29: 0 | CA29: 1 | CB29: 0 | CC29: 0 | CD29: 0 | CE29: 1 | CF29: 0 | CG29: 0 | CH29: 0 | CI29: 1 | CJ29: 0 | CK29: 0 | CL29: 0 | CM29: 1 | CN29: 0 | CO29: 0 | CP29: 0 | CQ29: 1 | CR29: 0 | CS29: 0 | CT29: 0 | CU29: 1 | CV29: 0 | CW29: 0 | CX29: 0
G30: 1 | H30: 0 | I30: 0 | J30: 0 | K30: 1 | L30: 0 | M30: 0 | N30: 0 | O30: 1 | P30: 0 | Q30: 0 | R30: 0 | S30: 1 | T30: 0 | U30: 0 | V30: 0 | W30: 1 | X30: 0 | Y30: 0 | Z30: 0 | AA30: 1 | AB30: 0 | AC30: 0 | AD30: 0 | AE30: 1 | AF30: 0 | AG30: 0 | AH30: 0 | AI30: 1 | AJ30: 0 | AK30: 0 | AL30: 0 | AM30: 1 | AN30: 0 | AO30: 0 | AP30: 0 | AQ30: 1 | AR30: 0 | AS30: 0 | AT30: 0 | AU30: 1 | AV30: 0 | AW30: 0 | AX30: 0 | AY30: 1 | AZ30: 0 | BA30: 0 | BB30: 0 | BC30: 1 | BD30: 0 | BE30: 0 | BF30: 0 | BG30: 1 | BH30: 0 | BI30: 0 | BJ30: 0 | BK30: 1 | BL30: 0 | BM30: 0 | BN30: 0 | BO30: 1 | BP30: 0 | BQ30: 0 | BR30: 0 | BS30: 1 | BT30: 0 | BU30: 0 | BV30: 0 | BW30: 1 | BX30: 0 | BY30: 0 | BZ30: 0 | CA30: 1 | CB30: 0 | CC30: 0 | CD30: 0 | CE30: 1 | CF30: 0 | CG30: 0 | CH30: 0 | CI30: 1 | CJ30: 0 | CK30: 0 | CL30: 0 | CM30: 1 | CN30: 0 | CO30: 0 | CP30: 0 | CQ30: 1 | CR30: 0 | CS30: 0 | CT30: 0 | CU30: 1 | CV30: 0 | CW30: 0 | CX30: 0 | CY30: 1 | CZ30: 0 | DA30: 0 | DB30: 0
O31: 1 | P31: 0 | Q31: 0 | R31: 0 | S31: 1 | T31: 0 | U31: 0 | V31: 0 | W31: 1 | X31: 0 | Y31: 0 | Z31: 0 | AA31: 1 | AB31: 0 | AC31: 0 | AD31: 0 | AE31: 1 | AF31: 0 | AG31: 0 | AH31: 0 | AI31: 1 | AJ31: 0 | AK31: 0 | AL31: 0 | AM31: 1 | AN31: 0 | AO31: 0 | AP31: 0 | AQ31: 1 | AR31: 0 | AS31: 0 | AT31: 0 | AU31: 1 | AV31: 0 | AW31: 0 | AX31: 0 | AY31: 1 | AZ31: 0 | BA31: 0 | BB31: 0 | BC31: 1 | BD31: 0 | BE31: 0 | BF31: 0 | BG31: 1 | BH31: 0 | BI31: 0 | BJ31: 0 | BK31: 1 | BL31: 0 | BM31: 0 | BN31: 0 | BO31: 1 | BP31: 0 | BQ31: 0 | BR31: 0 | BS31: 1 | BT31: 0 | BU31: 0 | BV31: 0 | BW31: 1 | BX31: 0 | BY31: 0 | BZ31: 0 | CA31: 1 | CB31: 0 | CC31: 0 | CD31: 0 | CE31: 1 | CF31: 0 | CG31: 0 | CH31: 0 | CI31: 1 | CJ31: 0 | CK31: 0 | CL31: 0 | CM31: 1 | CN31: 0 | CO31: 0 | CP31: 0 | CQ31: 1 | CR31: 0 | CS31: 0 | CT31: 0 | CU31: 1 | CV31: 0 | CW31: 0 | CX31: 0 | CY31: 1 | CZ31: 0 | DA31: 0 | DB31: 0 | DC31: 0 | DD31: 0
